BEGIN:VCALENDAR
VERSION:2.0
PRODID:icalendar-ruby
CALSCALE:GREGORIAN
METHOD:PUBLISH
BEGIN:VEVENT
DTSTAMP:20260421T131601Z
UID:68-661326@covenantgrove.org
DTSTART:20260913T180000Z
DTEND:20260913T191500Z
CLASS:PUBLIC
CREATED:20260421T041948
DESCRIPTION:Every Sunday at 9:00 &amp\; 11:00am\, our church gathers to wor
 ship\, learn\, connect\, and have fun. We would love for you to join us. O
 ur worship is heartfelt and energetic. Our sermons are biblical and releva
 nt to real life. We have a huge heart for the next generation\, so kids\, 
 youth\, and young adults are all part of our Sunday mornings. We also love
  to eat together\, so there are snacks every week and a potluck on the sec
 ond Sunday of every month. We hope you will join us soon for a worship ser
 vice—everyone is welcome!
LAST-MODIFIED:20260421T041948
LOCATION:4825 Roselle Ave\, Modesto\, CA 95354
SUMMARY:Sunday Worship
URL;VALUE=URI:https://covenantgrove.org/events/sunday-worship/2026-09-13
ATTACH;FILENAME=Worship-Slide---2026-01.jpg;FMTTYPE=image/jpeg:https://dq5p
 wpg1q8ru0.cloudfront.net/2026/01/16/00/34/39/d21e68d3-3eee-4d4b-8afc-68e07
 d337ac6/Worship-Slide---2026-01.jpg
END:VEVENT
END:VCALENDAR
