BEGIN:VCALENDAR
VERSION:2.0
PRODID:icalendar-ruby
CALSCALE:GREGORIAN
METHOD:PUBLISH
BEGIN:VEVENT
DTSTAMP:20260421T203232Z
UID:31-662342@covenantgrove.org
DTSTART:20261008T013000Z
DTEND:20261008T034500Z
CLASS:PUBLIC
CREATED:20260421T121113
DESCRIPTION:
LAST-MODIFIED:20260421T121113
LOCATION:4825 Roselle Ave\, Modesto\, CA 95354
SUMMARY:Youth Group 
URL;VALUE=URI:https://covenantgrove.org/events/youth-group/2026-10-07
ATTACH;FILENAME=white-cropped.jpg;FMTTYPE=image/jpeg:https://dq5pwpg1q8ru0.
 cloudfront.net/2022/08/09/00/03/53/abaabee8-d012-45b0-ab97-40fa3db5a9be/wh
 ite-cropped.jpg
END:VEVENT
END:VCALENDAR
